BEGIN:VCALENDAR
VERSION:2.0
PRODID:-//CIWA - ECPv6.15.20//NONSGML v1.0//EN
CALSCALE:GREGORIAN
METHOD:PUBLISH
X-WR-CALNAME:CIWA
X-ORIGINAL-URL:https://ciwa-online.com
X-WR-CALDESC:Events for CIWA
REFRESH-INTERVAL;VALUE=DURATION:PT1H
X-Robots-Tag:noindex
X-PUBLISHED-TTL:PT1H
BEGIN:VTIMEZONE
TZID:America/Denver
BEGIN:DAYLIGHT
TZOFFSETFROM:-0700
TZOFFSETTO:-0600
TZNAME:MDT
DTSTART:20250309T090000
END:DAYLIGHT
BEGIN:STANDARD
TZOFFSETFROM:-0600
TZOFFSETTO:-0700
TZNAME:MST
DTSTART:20251102T080000
END:STANDARD
BEGIN:DAYLIGHT
TZOFFSETFROM:-0700
TZOFFSETTO:-0600
TZNAME:MDT
DTSTART:20260308T090000
END:DAYLIGHT
BEGIN:STANDARD
TZOFFSETFROM:-0600
TZOFFSETTO:-0700
TZNAME:MST
DTSTART:20261101T080000
END:STANDARD
BEGIN:DAYLIGHT
TZOFFSETFROM:-0700
TZOFFSETTO:-0600
TZNAME:MDT
DTSTART:20270314T090000
END:DAYLIGHT
BEGIN:STANDARD
TZOFFSETFROM:-0600
TZOFFSETTO:-0700
TZNAME:MST
DTSTART:20271107T080000
END:STANDARD
END:VTIMEZONE
BEGIN:VEVENT
DTSTART;VALUE=DATE:20260706
DTEND;VALUE=DATE:20260912
DTSTAMP:20260425T103518
CREATED:20250520T185603Z
LAST-MODIFIED:20260302T163257Z
UID:17944-1783296000-1789171199@ciwa-online.com
SUMMARY:Digital Marketing Training - July 6 to September 11\, 2026
DESCRIPTION:Digital Marketing\nWhat will you learn?\n\nBranding\nWeb Design\nSearch Engine Optimization\nOnline advertising campaigns\nEmail marketing\nSocial media\nGraphic design\nData Analytics and other tools\nMS Office\, Canva\, Adobe Photoshop\nCanadian workplace culture\n\nHow will it operate?\n\nClassroom training\nChildcare and transit costs provided to eligible clients\n\nEligibility\n\nImmigrant women who are permanent residents or conventional refugees with CLB 6-7.\nOver 18 years of age\nCan commit to 10 weeks of training and to working afterward\n\nContact\nKetaki Wani \ndigitalmarketingtraining@ciwa-online.com\n403-263-4414 Ext. 270
URL:https://ciwa-online.com/event/digital-marketing-training-calgary/
ATTACH;FMTTYPE=image/jpeg:https://ciwa-online.com/wp-content/uploads/digitalmarketingcourse-1.jpg
END:VEVENT
END:VCALENDAR