BEGIN:VCALENDAR
VERSION:2.0
PRODID:-//CIWA - ECPv6.15.20//NONSGML v1.0//EN
CALSCALE:GREGORIAN
METHOD:PUBLISH
X-WR-CALNAME:CIWA
X-ORIGINAL-URL:https://ciwa-online.com
X-WR-CALDESC:Events for CIWA
REFRESH-INTERVAL;VALUE=DURATION:PT1H
X-Robots-Tag:noindex
X-PUBLISHED-TTL:PT1H
BEGIN:VTIMEZONE
TZID:America/Denver
BEGIN:DAYLIGHT
TZOFFSETFROM:-0700
TZOFFSETTO:-0600
TZNAME:MDT
DTSTART:20250309T090000
END:DAYLIGHT
BEGIN:STANDARD
TZOFFSETFROM:-0600
TZOFFSETTO:-0700
TZNAME:MST
DTSTART:20251102T080000
END:STANDARD
BEGIN:DAYLIGHT
TZOFFSETFROM:-0700
TZOFFSETTO:-0600
TZNAME:MDT
DTSTART:20260308T090000
END:DAYLIGHT
BEGIN:STANDARD
TZOFFSETFROM:-0600
TZOFFSETTO:-0700
TZNAME:MST
DTSTART:20261101T080000
END:STANDARD
BEGIN:DAYLIGHT
TZOFFSETFROM:-0700
TZOFFSETTO:-0600
TZNAME:MDT
DTSTART:20270314T090000
END:DAYLIGHT
BEGIN:STANDARD
TZOFFSETFROM:-0600
TZOFFSETTO:-0700
TZNAME:MST
DTSTART:20271107T080000
END:STANDARD
END:VTIMEZONE
BEGIN:VEVENT
DTSTART;VALUE=DATE:20260209
DTEND;VALUE=DATE:20260502
DTSTAMP:20260425T084419
CREATED:20251021T171232Z
LAST-MODIFIED:20251113T225807Z
UID:18351-1770595200-1777679999@ciwa-online.com
SUMMARY:Hospitality Training for Immigrant Women - February 9 2026 to May 1\, 2026
DESCRIPTION:Delivered in collaboration with Southern Alberta Institute of Technology (SAIT)\, this 12-week fulltime program helps immigrant women develop and enhance their employability skills in the\nhospitality and tourism industry. \nThis project offers\n\n8 weeks of integrated occupational\, English language and essential skills training\n4 weeks of work experience placement\nCustomized training in partnership with SAIT\nComputer skill enhancement and employment counselling\nJob placement and retention support\n\nOther details\n\nFree training\nEmployer engagement\n\nOther details\n\nFree training\nEmployer engagement\n\nEligibility Criteria\n\nUnemployed or underemployed immigrant women not receiving EI benefits\nOpen to permanent residents\, refugees and Canadian citizens except CUAET holders\nCanadian Language Benchmarks (CLBs) of 6 or higher in all four skills\nShould not possess prior academic credentials from Canada\n\nTo register\nFill out this Registration Form for Hospitality Training \nContact\nArefin Azam\n(403) 263-4414 Ext. 170\nhospitalitytraining@ciwa.org\n \n 
URL:https://ciwa-online.com/event/hospitality-training-for-immigrant-women-october-27-2025-january-30-2025/
ATTACH;FMTTYPE=image/jpeg:https://ciwa-online.com/wp-content/uploads/hospitalitytraining.jpg
END:VEVENT
BEGIN:VEVENT
DTSTART;VALUE=DATE:20260407
DTEND;VALUE=DATE:20260711
DTSTAMP:20260425T084419
CREATED:20250407T213940Z
LAST-MODIFIED:20260226T220137Z
UID:17848-1775520000-1783727999@ciwa-online.com
SUMMARY:Training for Translators and Interpreters - April 7 to July 10\, 2026 (including 2-week work placement) - open for registration
DESCRIPTION:This 14-week full time employment training program supports professional immigrant women who are proficient in more than one language. \nEligibility \n• Permanent residents or convention refugees\n• High school or post-secondary education\n• Canadian Language Benchmark 7 or higher in all strands or equivalent language scores\n• Be able to commit to 3 months of full-time training followed by interpretation and translation assignments \nProgram Details \n• 12 weeks of training and 2 weeks of work practicum\n• Interpreter and Translator Training: Learn from a licensed community interpreter trainer and experienced translator\n• Certification Prep: Prepare for the interpreter proficiency test (CILISAT) and the Community Interpreter Exam (CI)\n• Translation Skills: Gain basic translation skills: translation strategies\, glossary building\, proofreading techniques\n• Industry Insights: Connect with industry experts and community organizations that use freelance interpreting and translation services in educational\, social\, legal\, immigration\, and healthcare settings\n• Job Search and Business Basics: Develop your job search skills and learn about starting your own business \nReimbursement for childcare and transit may be available \nComputer Skills \n• Learn to use Microsoft Office and translation software \nContact us today \ninterpretationtraining@ciwa-online.com\n(403) 263-4414 ext. 127
URL:https://ciwa-online.com/event/training-for-translators-and-interpreters-april-14-to-july-18-2025-open-for-registration/
ATTACH;FMTTYPE=image/png:https://ciwa-online.com/wp-content/uploads/translationcourse.png
END:VEVENT
END:VCALENDAR